BEGIN:VCALENDAR
VERSION:2.0
PRODID:-//Sankt Georg · Köln - ECPv6.15.20//NONSGML v1.0//EN
CALSCALE:GREGORIAN
METHOD:PUBLISH
X-WR-CALNAME:Sankt Georg · Köln
X-ORIGINAL-URL:https://georg-koeln.de
X-WR-CALDESC:Veranstaltungen für Sankt Georg · Köln
REFRESH-INTERVAL;VALUE=DURATION:PT1H
X-Robots-Tag:noindex
X-PUBLISHED-TTL:PT1H
BEGIN:VTIMEZONE
TZID:Europe/Berlin
BEGIN:DAYLIGHT
TZOFFSETFROM:+0100
TZOFFSETTO:+0200
TZNAME:CEST
DTSTART:20250330T010000
END:DAYLIGHT
BEGIN:STANDARD
TZOFFSETFROM:+0200
TZOFFSETTO:+0100
TZNAME:CET
DTSTART:20251026T010000
END:STANDARD
BEGIN:DAYLIGHT
TZOFFSETFROM:+0100
TZOFFSETTO:+0200
TZNAME:CEST
DTSTART:20260329T010000
END:DAYLIGHT
BEGIN:STANDARD
TZOFFSETFROM:+0200
TZOFFSETTO:+0100
TZNAME:CET
DTSTART:20261025T010000
END:STANDARD
BEGIN:DAYLIGHT
TZOFFSETFROM:+0100
TZOFFSETTO:+0200
TZNAME:CEST
DTSTART:20270328T010000
END:DAYLIGHT
BEGIN:STANDARD
TZOFFSETFROM:+0200
TZOFFSETTO:+0100
TZNAME:CET
DTSTART:20271031T010000
END:STANDARD
END:VTIMEZONE
BEGIN:VEVENT
DTSTART;TZID=Europe/Berlin:20260524T113000
DTEND;TZID=Europe/Berlin:20260524T140000
DTSTAMP:20260423T103324
CREATED:20251219T142800Z
LAST-MODIFIED:20260130T135018Z
UID:10001175-1779622200-1779631200@georg-koeln.de
SUMMARY:Pfarrcafé | St. Georg
DESCRIPTION:Pfarrcafé | St. Georg\n\n\n\n\n\n\nWir laden herzlich zum Pfarrcafé nach der Integrativen Messe im Pfarrsaal ein. \n\nFoto: © Pfarrbriefservice.de
URL:https://georg-koeln.de/event/pfarrcafe-st-georg-3/2026-05-24/
LOCATION:St. Georg | Köln\, Georgstr. 2\, Köln\, Nordrhein-Westfalen\, 50676\, Deutschland
CATEGORIES:Kirchenjahr & Begegnung
ATTACH;FMTTYPE=image/jpeg:https://georg-koeln.de/wp-content/uploads/2023/03/t-4765017_final_by_congerdesign_pixabay_pfarrbriefservice-1.jpg
END:VEVENT
BEGIN:VEVENT
DTSTART;TZID=Europe/Berlin:20260614T113000
DTEND;TZID=Europe/Berlin:20260614T140000
DTSTAMP:20260423T103324
CREATED:20251219T142800Z
LAST-MODIFIED:20260130T135018Z
UID:10001176-1781436600-1781445600@georg-koeln.de
SUMMARY:Pfarrcafé | St. Georg
DESCRIPTION:Pfarrcafé | St. Georg\n\n\n\n\n\n\nWir laden herzlich zum Pfarrcafé nach der Integrativen Messe im Pfarrsaal ein. \n\nFoto: © Pfarrbriefservice.de
URL:https://georg-koeln.de/event/pfarrcafe-st-georg-3/2026-06-14/
LOCATION:St. Georg | Köln\, Georgstr. 2\, Köln\, Nordrhein-Westfalen\, 50676\, Deutschland
CATEGORIES:Kirchenjahr & Begegnung
ATTACH;FMTTYPE=image/jpeg:https://georg-koeln.de/wp-content/uploads/2023/03/t-4765017_final_by_congerdesign_pixabay_pfarrbriefservice-1.jpg
END:VEVENT
BEGIN:VEVENT
DTSTART;TZID=Europe/Berlin:20260712T113000
DTEND;TZID=Europe/Berlin:20260712T140000
DTSTAMP:20260423T103325
CREATED:20251219T142800Z
LAST-MODIFIED:20260130T135018Z
UID:10001177-1783855800-1783864800@georg-koeln.de
SUMMARY:Pfarrcafé | St. Georg
DESCRIPTION:Pfarrcafé | St. Georg\n\n\n\n\n\n\nWir laden herzlich zum Pfarrcafé nach der Integrativen Messe im Pfarrsaal ein. \n\nFoto: © Pfarrbriefservice.de
URL:https://georg-koeln.de/event/pfarrcafe-st-georg-3/2026-07-12/
LOCATION:St. Georg | Köln\, Georgstr. 2\, Köln\, Nordrhein-Westfalen\, 50676\, Deutschland
CATEGORIES:Kirchenjahr & Begegnung
ATTACH;FMTTYPE=image/jpeg:https://georg-koeln.de/wp-content/uploads/2023/03/t-4765017_final_by_congerdesign_pixabay_pfarrbriefservice-1.jpg
END:VEVENT
END:VCALENDAR